BEGIN:VCALENDAR
PRODID:-//Solspace/Calendar 2.x//EN
VERSION:2.0
CALSCALE:GREGORIAN
BEGIN:VEVENT
UID:8b2a08558a847ff6e4eebd90ff0ddf3c@solspace.com
DTSTAMP:20260421T201453
DTSTART:20251107T090000
DTEND:20251107T110000
SUMMARY:Find a Job Friday
END:VEVENT
END:VCALENDAR
