BEGIN:VCALENDAR
PRODID:-//Solspace/Calendar 2.x//EN
VERSION:2.0
CALSCALE:GREGORIAN
BEGIN:VEVENT
UID:a9e487ba2950347ac31cddd5a2eb9de3@solspace.com
DTSTAMP:20260421T212755
DTSTART:20260213T090000
DTEND:20260213T110000
SUMMARY:Find a Job Friday
END:VEVENT
END:VCALENDAR
