BEGIN:VCALENDAR
PRODID:-//Solspace/Calendar 2.x//EN
VERSION:2.0
CALSCALE:GREGORIAN
BEGIN:VEVENT
UID:736b8f82e6c630c947cf9fdb4f39d1d4@solspace.com
DTSTAMP:20260421T212757
DTSTART:20260109T090000
DTEND:20260109T110000
SUMMARY:Find a Job Friday
END:VEVENT
END:VCALENDAR
