BEGIN:VCALENDAR
PRODID:-//Solspace/Calendar 2.x//EN
VERSION:2.0
CALSCALE:GREGORIAN
BEGIN:VEVENT
UID:10f90195a3b87d0314ae9b42757c5091@solspace.com
DTSTAMP:20260422T011422
DTSTART:20250801T090000
DTEND:20250801T110000
SUMMARY:Find a Job Friday
END:VEVENT
END:VCALENDAR
