BEGIN:VCALENDAR
PRODID:-//Solspace/Calendar 2.x//EN
VERSION:2.0
CALSCALE:GREGORIAN
BEGIN:VEVENT
UID:dd50710aed4f5cba37c807d29936c49b@solspace.com
DTSTAMP:20260422T021602
DTSTART:20250919T090000
DTEND:20250919T100000
SUMMARY:Find a Job Friday
END:VEVENT
END:VCALENDAR
