BEGIN:VCALENDAR
PRODID:-//Solspace/Calendar 2.x//EN
VERSION:2.0
CALSCALE:GREGORIAN
BEGIN:VEVENT
UID:f74fc0e6d1fd9295e878df4d39fd6ef9@solspace.com
DTSTAMP:20260421T212753
DTSTART:20251212T090000
DTEND:20251212T110000
SUMMARY:Find a Job Friday
END:VEVENT
END:VCALENDAR
