BEGIN:VCALENDAR
PRODID:-//Solspace/Calendar 2.x//EN
VERSION:2.0
CALSCALE:GREGORIAN
BEGIN:VEVENT
UID:8a1815f0cd944ae75ae9bfadc977cc8a@solspace.com
DTSTAMP:20260421T212755
DTSTART:20251114T090000
DTEND:20251114T110000
SUMMARY:Find a Job Friday
END:VEVENT
END:VCALENDAR
