BEGIN:VCALENDAR
PRODID:-//Solspace/Calendar 2.x//EN
VERSION:2.0
CALSCALE:GREGORIAN
BEGIN:VEVENT
UID:22edfe92aad69a0cd50eb5b8fbf8a26a@solspace.com
DTSTAMP:20260422T000022
DTSTART:20251010T090000
DTEND:20251010T110000
SUMMARY:Find a Job Friday
END:VEVENT
END:VCALENDAR
