BEGIN:VCALENDAR
PRODID:-//Solspace/Calendar 2.x//EN
VERSION:2.0
CALSCALE:GREGORIAN
BEGIN:VEVENT
UID:c41a31a4d0962f65fee91949b7c8945c@solspace.com
DTSTAMP:20260422T001206
DTSTART:20250912T090000
DTEND:20250912T110000
SUMMARY:Find a Job Friday
END:VEVENT
END:VCALENDAR
