BEGIN:VCALENDAR
PRODID:-//Solspace/Calendar 2.x//EN
VERSION:2.0
CALSCALE:GREGORIAN
BEGIN:VEVENT
UID:2c6fe00e413c95ae28dbbd3b0327aa27@solspace.com
DTSTAMP:20260421T235409
DTSTART:20250718T093000
DTEND:20250718T103000
SUMMARY:Preparing for Your Interview - Wakulla
END:VEVENT
BEGIN:VEVENT
UID:35d7c6bfe57157af5b0d2ae9a6175177@solspace.com
DTSTAMP:20260421T235409
DTSTART:20250725T093000
DTEND:20250725T103000
SUMMARY:Preparing for Your Interview - Wakulla
END:VEVENT
BEGIN:VEVENT
UID:7ca177f7144e176fea4332e44e20bad4@solspace.com
DTSTAMP:20260421T235409
DTSTART:20251114T093000
DTEND:20251114T103000
SUMMARY:Preparing for Your Interview - Wakulla
END:VEVENT
END:VCALENDAR
