BEGIN:VCALENDAR
PRODID:-//Solspace/Calendar 2.x//EN
VERSION:2.0
CALSCALE:GREGORIAN
BEGIN:VEVENT
UID:43ab01ae0dba14275c4950ea08641b2f@solspace.com
DTSTAMP:20260422T034746
DTSTART:20250616T123000
DTEND:20250616T133000
SUMMARY:Board Chairs Meeting
END:VEVENT
END:VCALENDAR
