BEGIN:VCALENDAR
PRODID:-//Solspace/Calendar 2.x//EN
VERSION:2.0
CALSCALE:GREGORIAN
BEGIN:VEVENT
UID:fb57a304739928a2d256f74200013eef@solspace.com
DTSTAMP:20260424T141304
DTSTART:20250722T090000
DTEND:20250722T120000
SUMMARY:Jefferson County Hiring Fair
END:VEVENT
END:VCALENDAR
