BEGIN:VCALENDAR
PRODID:-//Solspace/Calendar 2.x//EN
VERSION:2.0
CALSCALE:GREGORIAN
BEGIN:VEVENT
UID:1727e3e288b32c498048b585be58762b@solspace.com
DTSTAMP:20260422T022141
DTSTART:20250711T090000
DTEND:20250711T110000
SUMMARY:Find a Job Friday
END:VEVENT
END:VCALENDAR
