BEGIN:VCALENDAR
PRODID:-//Solspace/Calendar 2.x//EN
VERSION:2.0
CALSCALE:GREGORIAN
BEGIN:VEVENT
UID:bd3391ba6b1ab7bcd3e4951a21127a10@solspace.com
DTSTAMP:20260422T012145
DTSTART:20250804T150000
DTEND:20250804T170000
SUMMARY:Personnel Committee Meeting
END:VEVENT
BEGIN:VEVENT
UID:d02983f8dd79391774abd389064cbe49@solspace.com
DTSTAMP:20260422T012145
DTSTART:20250806T150000
DTEND:20250806T170000
SUMMARY:Personnel Committee Meeting
END:VEVENT
BEGIN:VEVENT
UID:38a88205c78fbcc9e7ba16c40c1e3009@solspace.com
DTSTAMP:20260422T012145
DTSTART:20250808T150000
DTEND:20250808T170000
SUMMARY:Personnel Committee Meeting
END:VEVENT
BEGIN:VEVENT
UID:cc82e39284d298b5e3349ab1569408c6@solspace.com
DTSTAMP:20260422T012145
DTSTART:20250811T150000
DTEND:20250811T170000
SUMMARY:Personnel Committee Meeting
END:VEVENT
END:VCALENDAR
