BEGIN:VCALENDAR
PRODID:-//Solspace/Calendar 2.x//EN
VERSION:2.0
CALSCALE:GREGORIAN
BEGIN:VEVENT
UID:6623f73fd3a6ff0636260fdeff795a04@solspace.com
DTSTAMP:20260422T011738
DTSTART:20250730T083000
DTEND:20250730T160000
RRULE:FREQ=DAILY;UNTIL=20250731T235959Z;INTERVAL=1
SUMMARY:LEAD
END:VEVENT
END:VCALENDAR
