BEGIN:VCALENDAR
PRODID:-//Solspace/Calendar 2.x//EN
VERSION:2.0
CALSCALE:GREGORIAN
BEGIN:VEVENT
UID:62e0dc92cbd64a373d1abf27eab736d2@solspace.com
DTSTAMP:20260422T022434
DTSTART:20250624T140000
DTEND:20250624T150000
SUMMARY:Personnel Committee Meeting
END:VEVENT
BEGIN:VEVENT
UID:62c4e20298714c633d6c9d715be596ab@solspace.com
DTSTAMP:20260422T022434
DTSTART:20250709T140000
DTEND:20250709T150000
SUMMARY:Personnel Committee Meeting
END:VEVENT
END:VCALENDAR
