BEGIN:VCALENDAR
PRODID:-//Solspace/Calendar 2.x//EN
VERSION:2.0
CALSCALE:GREGORIAN
BEGIN:VEVENT
UID:0634b76c8f33cd9f8b922250422f7bb8@solspace.com
DTSTAMP:20260422T034744
DTSTART:20250606T113000
DTEND:20250606T130000
SUMMARY:Power Hour
END:VEVENT
END:VCALENDAR
