BEGIN:VCALENDAR
PRODID:-//Solspace/Calendar 2.x//EN
VERSION:2.0
CALSCALE:GREGORIAN
BEGIN:VEVENT
UID:55cba151405d463f209136e640f86de8@solspace.com
DTSTAMP:20260421T235410
DTSTART:20250521T130000
DTEND:20250521T143000
SUMMARY:Federal Bonding & Work Opportunity Tax Credit (WOTC) - Gadsd
 en Center
END:VEVENT
BEGIN:VEVENT
UID:c17d7419a3a1bf8a9185f831f5f212bc@solspace.com
DTSTAMP:20260421T235410
DTSTART:20250924T130000
DTEND:20250924T143000
SUMMARY:Federal Bonding & Work Opportunity Tax Credit (WOTC) - Gadsd
 en Center
END:VEVENT
BEGIN:VEVENT
UID:309dd9a23960d8d99548e85c011fcf53@solspace.com
DTSTAMP:20260421T235410
DTSTART:20251203T130000
DTEND:20251203T143000
SUMMARY:Federal Bonding & Work Opportunity Tax Credit (WOTC) - Gadsd
 en Center
END:VEVENT
END:VCALENDAR
