BEGIN:VCALENDAR
PRODID:-//Solspace/Calendar 2.x//EN
VERSION:2.0
CALSCALE:GREGORIAN
BEGIN:VEVENT
UID:b32bf393df0271e08297c016d303d1f2@solspace.com
DTSTAMP:20260422T044811
DTSTART:20250514T150000
DTEND:20250514T160000
SUMMARY:Interviewing Basics for Professionals - Gadsden Center
END:VEVENT
END:VCALENDAR
