BEGIN:VCALENDAR
PRODID:-//Solspace/Calendar 2.x//EN
VERSION:2.0
CALSCALE:GREGORIAN
BEGIN:VEVENT
UID:4950d9d9f42a69055c18b3d6039e8b02@solspace.com
DTSTAMP:20260421T235909
DTSTART:20250507T130000
DTEND:20250507T140000
SUMMARY:Resume Writing: Writing the Best Resume for Your Job Campaig
 n - Gadsden Center
END:VEVENT
BEGIN:VEVENT
UID:f6ee888d84a96c7043ef04410f917e05@solspace.com
DTSTAMP:20260421T235909
DTSTART:20250910T130000
DTEND:20250910T140000
SUMMARY:Resume Writing: Writing the Best Resume for Your Job Campaig
 n - Gadsden Center
END:VEVENT
END:VCALENDAR
