BEGIN:VCALENDAR
PRODID:-//Solspace/Calendar 2.x//EN
VERSION:2.0
CALSCALE:GREGORIAN
BEGIN:VEVENT
UID:b03782cd579ae9d0105363dfbb5c0e57@solspace.com
DTSTAMP:20260422T045218
DTSTART:20250502T090000
DTEND:20250502T110000
SUMMARY:Find a Job Friday
END:VEVENT
END:VCALENDAR
