BEGIN:VCALENDAR
PRODID:-//Solspace/Calendar 2.x//EN
VERSION:2.0
CALSCALE:GREGORIAN
BEGIN:VEVENT
UID:29bf3b71b847508f8461d5514f536f14@solspace.com
DTSTAMP:20260422T045220
DTSTART:20250506T100000
DTEND:20250506T140000
SUMMARY:Workforce Readiness Event
END:VEVENT
END:VCALENDAR
