BEGIN:VCALENDAR
PRODID:-//Solspace/Calendar 2.x//EN
VERSION:2.0
CALSCALE:GREGORIAN
BEGIN:VEVENT
UID:9092607f4dc424818771bb56523cf3f6@solspace.com
DTSTAMP:20260422T060436
DTSTART:20250416T083000
DTEND:20250416T150000
SUMMARY:Tallahassee's Internship Program Success Workshop
END:VEVENT
END:VCALENDAR
