BEGIN:VCALENDAR
PRODID:-//Solspace/Calendar 2.x//EN
VERSION:2.0
CALSCALE:GREGORIAN
BEGIN:VEVENT
UID:d342ae3dde34fa32b21ee3f9bfc4259c@solspace.com
DTSTAMP:20260422T061102
DTSTART:20250402T130000
DTEND:20250402T140000
SUMMARY:ONLINE:  Interviewing Basics for Professionals
END:VEVENT
END:VCALENDAR
