BEGIN:VCALENDAR
PRODID:-//Solspace/Calendar 2.x//EN
VERSION:2.0
CALSCALE:GREGORIAN
BEGIN:VEVENT
UID:971c549cd37d422fda08a503496c95f5@solspace.com
DTSTAMP:20260422T072600
DTSTART:20250326T100000
DTEND:20250326T110000
SUMMARY:RESUME WRITING: “WRITING THE BEST RESUME FOR YOUR JOB CAMP
 AIGN
END:VEVENT
END:VCALENDAR
