BEGIN:VCALENDAR
PRODID:-//Solspace/Calendar 2.x//EN
VERSION:2.0
CALSCALE:GREGORIAN
BEGIN:VEVENT
UID:209742e8294b24c0c15171f880da5466@solspace.com
DTSTAMP:20260421T235440
DTSTART:20250324T150000
DTEND:20250324T160000
SUMMARY:WIOA ADULT/DISLOCATED WORKER ORIENTATION
END:VEVENT
BEGIN:VEVENT
UID:43227a767d505bd0d46f17cfbe77571f@solspace.com
DTSTAMP:20260421T235440
DTSTART:20260209T150000
DTEND:20260209T160000
SUMMARY:WIOA ADULT/DISLOCATED WORKER ORIENTATION
END:VEVENT
BEGIN:VEVENT
UID:33dc13aa9fd5299d08655057998299b6@solspace.com
DTSTAMP:20260421T235440
DTSTART:20260223T150000
DTEND:20260223T160000
SUMMARY:WIOA ADULT/DISLOCATED WORKER ORIENTATION
END:VEVENT
END:VCALENDAR
