BEGIN:VCALENDAR
PRODID:-//Solspace/Calendar 2.x//EN
VERSION:2.0
CALSCALE:GREGORIAN
BEGIN:VEVENT
UID:f76c36dd2449db07c13899586ee80f90@solspace.com
DTSTAMP:20260422T072534
DTSTART:20250327T090000
DTEND:20250327T110000
SUMMARY:Coffee with a Veteran
END:VEVENT
END:VCALENDAR
