BEGIN:VCALENDAR
PRODID:-//Solspace/Calendar 2.x//EN
VERSION:2.0
CALSCALE:GREGORIAN
BEGIN:VEVENT
UID:7c99d7363b03b12d1ac836d27ef9ab45@solspace.com
DTSTAMP:20260422T044805
DTSTART:20250428T110000
DTEND:20250428T120000
SUMMARY:LinkedIn 101 - Employable Me Library Series
END:VEVENT
END:VCALENDAR
