BEGIN:VCALENDAR
PRODID:-//Solspace/Calendar 2.x//EN
VERSION:2.0
CALSCALE:GREGORIAN
BEGIN:VEVENT
UID:7e5b7e665fbf54d4f425b3291836250b@solspace.com
DTSTAMP:20260422T072555
DTSTART:20250324T110000
DTEND:20250324T120000
SUMMARY:Resume Writing 101 - Employable Me Library Series
END:VEVENT
END:VCALENDAR
