BEGIN:VCALENDAR
PRODID:-//Solspace/Calendar 2.x//EN
VERSION:2.0
CALSCALE:GREGORIAN
BEGIN:VEVENT
UID:a6bc0022f806803d3b63497566639305@solspace.com
DTSTAMP:20260422T034749
DTSTART:20250620T090000
DTEND:20250620T110000
SUMMARY:Find a Job Friday
END:VEVENT
END:VCALENDAR
