BEGIN:VCALENDAR
PRODID:-//Solspace/Calendar 2.x//EN
VERSION:2.0
CALSCALE:GREGORIAN
BEGIN:VEVENT
UID:27a0c2440fe15a93acb8d54fce68ce8f@solspace.com
DTSTAMP:20260422T044805
DTSTART:20250509T090000
DTEND:20250509T110000
SUMMARY:Find a Job Friday
END:VEVENT
END:VCALENDAR
