BEGIN:VCALENDAR
PRODID:-//Solspace/Calendar 2.x//EN
VERSION:2.0
CALSCALE:GREGORIAN
BEGIN:VEVENT
UID:74a756be120ef1596f157fff0864bb01@solspace.com
DTSTAMP:20260422T044811
DTSTART:20250613T090000
DTEND:20250613T110000
SUMMARY:Find a Job Friday
END:VEVENT
END:VCALENDAR
