BEGIN:VCALENDAR
PRODID:-//Solspace/Calendar 2.x//EN
VERSION:2.0
CALSCALE:GREGORIAN
BEGIN:VEVENT
UID:8be2d2e53bb20f2e7c884a3aa1ee896f@solspace.com
DTSTAMP:20260422T061027
DTSTART:20250411T090000
DTEND:20250411T110000
SUMMARY:Find a Job Friday
END:VEVENT
END:VCALENDAR
