BEGIN:VCALENDAR
PRODID:-//Solspace/Calendar 2.x//EN
VERSION:2.0
CALSCALE:GREGORIAN
BEGIN:VEVENT
UID:1f68145994090063a20c09889549c41b@solspace.com
DTSTAMP:20260422T071956
DTSTART:20250422T140000
DTEND:20250422T160000
SUMMARY:Ready2LEAP
END:VEVENT
END:VCALENDAR
