BEGIN:VCALENDAR
PRODID:-//Solspace/Calendar 2.x//EN
VERSION:2.0
CALSCALE:GREGORIAN
BEGIN:VEVENT
UID:33015170eb0ebcb8acfc6c22a9387d03@solspace.com
DTSTAMP:20260422T045517
DTSTART:20250501T113000
DTEND:20250501T133000
SUMMARY:Prep for Vets
END:VEVENT
END:VCALENDAR
